BEGIN:VCALENDAR
VERSION:2.0
PRODID:-//BVS-ABR - ECPv6.15.15//NONSGML v1.0//EN
CALSCALE:GREGORIAN
METHOD:PUBLISH
X-ORIGINAL-URL:https://bvsabr.be
X-WR-CALDESC:Events for BVS-ABR
REFRESH-INTERVAL;VALUE=DURATION:PT1H
X-Robots-Tag:noindex
X-PUBLISHED-TTL:PT1H
BEGIN:VTIMEZONE
TZID:UTC
BEGIN:STANDARD
TZOFFSETFROM:+0000
TZOFFSETTO:+0000
TZNAME:UTC
DTSTART:20240101T000000
END:STANDARD
END:VTIMEZONE
BEGIN:VEVENT
DTSTART;TZID=UTC:20250521T090000
DTEND;TZID=UTC:20250523T170000
DTSTAMP:20260424T114225
CREATED:20241112T091856Z
LAST-MODIFIED:20241112T091856Z
UID:10000074-1747818000-1748019600@bvsabr.be
SUMMARY:20th Anniversary CHERNE Workshop
DESCRIPTION:
URL:https://bvsabr.be/event/20th-anniversary-cherne-workshop/
LOCATION:Valencia\, Valencia\, Spain
END:VEVENT
END:VCALENDAR