BEGIN:VCALENDAR
VERSION:2.0
PRODID:-//BVS-ABR - ECPv6.15.15//NONSGML v1.0//EN
CALSCALE:GREGORIAN
METHOD:PUBLISH
X-WR-CALNAME:BVS-ABR
X-ORIGINAL-URL:https://bvsabr.be
X-WR-CALDESC:Events for BVS-ABR
REFRESH-INTERVAL;VALUE=DURATION:PT1H
X-Robots-Tag:noindex
X-PUBLISHED-TTL:PT1H
BEGIN:VTIMEZONE
TZID:UTC
BEGIN:STANDARD
TZOFFSETFROM:+0000
TZOFFSETTO:+0000
TZNAME:UTC
DTSTART:20030101T000000
END:STANDARD
END:VTIMEZONE
BEGIN:VEVENT
DTSTART;TZID=UTC:20110415T133000
DTEND;TZID=UTC:20110415T170000
DTSTAMP:20260425T060106
CREATED:20241111T174406Z
LAST-MODIFIED:20241126T184005Z
UID:10000066-1302874200-1302886800@bvsabr.be
SUMMARY:Highlights of the UNSCEAR 2008 Report
DESCRIPTION:Programme \nIntroduction and Overview of the Activities of UNSCEAR by Hans Vanmarcke (SCK•CEN) \nHealth Effects due to Radiation from the Chernobyl Accident by Patrick Smeesters (AFCN/FANC) \nMedical Radiation Exposures by Hilde Bosmans (UZ-KUL) \nEffects of Ionising Radiation on Non-Human Biota by Hildegarde Vandenhove (SCK•CEN) \nExposures of the Public and Workers from Various Sources of Radiation by Hans Vanmarcke (SCK•CEN)
URL:https://bvsabr.be/event/highlights-of-the-unscear-2008-report/
LOCATION:FANC Ravenstein\, Ravensteinstraat 36\, Brussels\, 1000\, Belgium
CATEGORIES:BVS-ABR
ORGANIZER;CN="BVS-ABR":MAILTO:office@bvsabr.be
END:VEVENT
BEGIN:VEVENT
DTSTART;TZID=UTC:20110218T133000
DTEND;TZID=UTC:20110218T170000
DTSTAMP:20260425T060106
CREATED:20241111T174320Z
LAST-MODIFIED:20241126T184709Z
UID:10000065-1298035800-1298048400@bvsabr.be
SUMMARY:Workshop on dose related to multimodal imaging
DESCRIPTION:Programme \nClinical implementation of hybrid imaging by François Jamar (UCL) \nHybrid imaging: CT dose related problems and some solutions by Peter Smeets (UZGent) \nOptimized protocols for PET/CT: how much CT is needed? by Sigrid Stroobants (UZA) \nOverview of the extremity doses of the medical staff during the preparation and administration of labeled nuclides for PET and SPECT examinations: results of a Belgian and European study by Filip Vanhavere (SCK•CEN) \nThe contribution of skin contamination dose to the total extremity dose of nuclear medicine staff by Peter Covens (VUB) \nReport of the FANC Working Parties Nuclear Medicine by Marleen Vandecapelle (FANC/AFCN) \nClosing remarks by Jean-Paul Samain (ABR/BVS) \nDo you want to view the slides of the presentations? Join BVS-ABR as a member!
URL:https://bvsabr.be/event/workshop-on-dose-related-to-multimodal-imaging/
LOCATION:UZA\, Antwerpen\, 2000\, Belgium
CATEGORIES:BVS-ABR
ORGANIZER;CN="BVS-ABR":MAILTO:office@bvsabr.be
END:VEVENT
BEGIN:VEVENT
DTSTART;TZID=UTC:20101001T133000
DTEND;TZID=UTC:20101001T170000
DTSTAMP:20260425T060106
CREATED:20241111T174607Z
LAST-MODIFIED:20241204T184325Z
UID:10000068-1285939800-1285952400@bvsabr.be
SUMMARY:BVS-ABR E&T event: A Contamination Incident at the Workplace: What to do?
DESCRIPTION:Programme \n\nRadioactieve Besmettingen – Verwachtingen van het FANC\, S. Coenen\nBasic Aspects of Radiation Protection for Radiological Incidents\, J. Camps\nInterventions d’Urgence\, P. Froment\nTreatment of a Radioactively Contaminated Victim in the Hospital\, T. Boterberg\nSuivi d’un incident de contamination – Approche d’une grande installation nucléaire\, Ph. Antoine\n\nDo you want to view the slides of the presentations? Login or join BVS-ABR as a member!
URL:https://bvsabr.be/event/bvs-abr-et-event-a-contamination-incident-at-the-workplace-what-to-do/
LOCATION:SCK CEN\, Boeretang 200\, Mol\, 2400\, Belgium
CATEGORIES:BVS-ABR
ORGANIZER;CN="BVS-ABR":MAILTO:office@bvsabr.be
END:VEVENT
BEGIN:VEVENT
DTSTART;TZID=UTC:20080620T090000
DTEND;TZID=UTC:20080620T170000
DTSTAMP:20260425T060106
CREATED:20241111T174708Z
LAST-MODIFIED:20241126T192628Z
UID:10000069-1213952400-1213981200@bvsabr.be
SUMMARY:BVS-ABR E&T event: ALARA in the Medical World
DESCRIPTION:Programme \n\nIntroduction: the ALARA principle in radiation protection and medicine: a precautionary approach\, G. Eggermont\nThe radiation protection principles in medicine: prerequisites and challenges\, P. Smeesters\nEstablishing reference levels and the use in radiation protection\, N. Marshall\nThe introduction of patient dosimetry in Belgium\, A. Fremout\nRadiation accidents in radiotherapy: lessons learned\, J.L. Godet\, part 1 & part 2\nPatient doses in paediatric radiology\, K. Smans\nCT pediatry: the influence of new technologies on patient dose\, N. Buls\nQuality control and dose optimization in mammography\, H. Bosmans\nRadiation protection of staff in nuclear medicine\, E. De Geest\nPersonal dosimetry as an ALARA tool in medical practices\, P. Covens
URL:https://bvsabr.be/event/bvs-abr-et-event-alara-in-the-medical-world/
LOCATION:VUB\, Laarbeeklaan 101\, Brussel\, Belgium
CATEGORIES:BVS-ABR
ORGANIZER;CN="BVS-ABR":MAILTO:office@bvsabr.be
END:VEVENT
BEGIN:VEVENT
DTSTART;TZID=UTC:20050606T090000
DTEND;TZID=UTC:20050606T170000
DTSTAMP:20260425T060107
CREATED:20241111T174837Z
LAST-MODIFIED:20241204T184008Z
UID:10000071-1118048400-1118077200@bvsabr.be
SUMMARY:BVS-ABR E&T event: Internal dosimetry
DESCRIPTION:Programme \n\nMIRD formalism for internal dosimetry (P. Dupont – KUL)\nDosisbepaling uit excreta-metingen/Estimation de dose à partir de mesures d’excreta (C. Hurtgen – SCK•CEN) and cases 1\, 2 and 3\nCase Study 1: Contrôle de la contamination interne à la centrale nucléaire de Tihange: Expérience de 1995 à ce jour (Dr. Thielemans – Electrabel-Tihange)\nCase Study 2: In-vivo measurements of radioactive body burdens: techniques and practices (J.L. Génicot – SCK•CEN)\n\nDo you want to view the slides of the presentations? Join BVS-ABR as a member!
URL:https://bvsabr.be/event/bvs-abr-et-event-internal-dosimetry/
CATEGORIES:BVS-ABR
ORGANIZER;CN="BVS-ABR":MAILTO:office@bvsabr.be
END:VEVENT
BEGIN:VEVENT
DTSTART;TZID=UTC:20040618T080000
DTEND;TZID=UTC:20040618T170000
DTSTAMP:20260425T060107
CREATED:20241111T174925Z
LAST-MODIFIED:20241128T184202Z
UID:10000072-1087545600-1087578000@bvsabr.be
SUMMARY:BVS-ABR E&T event: Radiobiology
DESCRIPTION:Programme \n\nEffets des rayonnements ionisants sur les cellulesdes mammifères (Prof. Guelette – UCL)\nEffecten van ioniserende straling op weefselniveau: de korte termijn effecten (Prof. van Eijkeren – UZGent)\nEffecten van ioniserende straling op weefselniveau: de lange termijn effecten (Prof. van Eijkeren – UZGent)\nLésions induites par les rayonnements ionisants observées chez les personnes professionnellement exposées (Dr. Hellin – Provilis)\nIonising radiation and skin lesions (Dr. Boesman – IKMO)\n\nDo you want to view the slides of the presentations? Join BVS-ABR as a member!
URL:https://bvsabr.be/event/bvs-abr-et-event-radiobiology/
CATEGORIES:BVS-ABR
ORGANIZER;CN="BVS-ABR":MAILTO:office@bvsabr.be
END:VEVENT
END:VCALENDAR